BEGIN:VCALENDAR
VERSION:2.0
PRODID:-//Panel Expertos - ECPv4.7.3//NONSGML v1.0//EN
CALSCALE:GREGORIAN
METHOD:PUBLISH
X-WR-CALNAME:Panel Expertos
X-ORIGINAL-URL:https://panelexpertos.cl
X-WR-CALDESC:Eventos para Panel Expertos
BEGIN:VEVENT
DTSTART;TZID=UTC-3:20241209T090000
DTEND;TZID=UTC-3:20241209T130000
DTSTAMP:20260419T170521
CREATED:20241125T192432Z
LAST-MODIFIED:20241125T192432Z
UID:3548-1733734800-1733749200@panelexpertos.cl
SUMMARY:Sesión Ordinaria y especial
DESCRIPTION:
URL:https://panelexpertos.cl/sesion/sesion-ordinaria-y-especial-269/
END:VEVENT
END:VCALENDAR