BEGIN:VCALENDAR
VERSION:2.0
PRODID:-//Panel Expertos - ECPv4.7.3//NONSGML v1.0//EN
CALSCALE:GREGORIAN
METHOD:PUBLISH
X-WR-CALNAME:Panel Expertos
X-ORIGINAL-URL:https://panelexpertos.cl
X-WR-CALDESC:Eventos para Panel Expertos
BEGIN:VEVENT
DTSTART;TZID=UTC-3:20241230T090000
DTEND;TZID=UTC-3:20241230T130000
DTSTAMP:20260419T154121
CREATED:20241126T112427Z
LAST-MODIFIED:20241126T112427Z
UID:3554-1735549200-1735563600@panelexpertos.cl
SUMMARY:Sesión Ordinaria y especial
DESCRIPTION:
URL:https://panelexpertos.cl/sesion/sesion-ordinaria-y-especial-272/
END:VEVENT
END:VCALENDAR