BEGIN:VCALENDAR
VERSION:2.0
PRODID:-//Panel Expertos - ECPv4.7.3//NONSGML v1.0//EN
CALSCALE:GREGORIAN
METHOD:PUBLISH
X-WR-CALNAME:Panel Expertos
X-ORIGINAL-URL:https://panelexpertos.cl
X-WR-CALDESC:Eventos para Panel Expertos
BEGIN:VEVENT
DTSTART;TZID=UTC-3:20210726T090000
DTEND;TZID=UTC-3:20210726T130000
DTSTAMP:20260422T100500
CREATED:20210527T190836Z
LAST-MODIFIED:20210527T190836Z
UID:1849-1627290000-1627304400@panelexpertos.cl
SUMMARY:Sesión Ordinaria y Especial
DESCRIPTION:
URL:https://panelexpertos.cl/sesion/sesion-ordinaria-y-especial-99/
END:VEVENT
END:VCALENDAR