BEGIN:VCALENDAR
VERSION:2.0
PRODID:-//Panel Expertos - ECPv4.7.3//NONSGML v1.0//EN
CALSCALE:GREGORIAN
METHOD:PUBLISH
X-WR-CALNAME:Panel Expertos
X-ORIGINAL-URL:https://panelexpertos.cl
X-WR-CALDESC:Eventos para Panel Expertos
BEGIN:VEVENT
DTSTART;TZID=UTC-3:20250324T090000
DTEND;TZID=UTC-3:20250324T130000
DTSTAMP:20260419T134840
CREATED:20250219T172404Z
LAST-MODIFIED:20250219T172409Z
UID:3666-1742806800-1742821200@panelexpertos.cl
SUMMARY:Sesión Ordinaria y Sesión Especial
DESCRIPTION:
URL:https://panelexpertos.cl/sesion/sesion-ordinaria-y-sesion-especial-7/
END:VEVENT
END:VCALENDAR