BEGIN:VCALENDAR
VERSION:2.0
PRODID:-//Panel Expertos - ECPv4.7.3//NONSGML v1.0//EN
CALSCALE:GREGORIAN
METHOD:PUBLISH
X-WR-CALNAME:Panel Expertos
X-ORIGINAL-URL:https://panelexpertos.cl
X-WR-CALDESC:Eventos para Panel Expertos
BEGIN:VEVENT
DTSTART;TZID=UTC-3:20250407T090000
DTEND;TZID=UTC-3:20250407T130000
DTSTAMP:20260421T090350
CREATED:20250319T135517Z
LAST-MODIFIED:20250319T135523Z
UID:3700-1744016400-1744030800@panelexpertos.cl
SUMMARY:Sesión Ordinaria y Sesión Especial
DESCRIPTION:
URL:https://panelexpertos.cl/sesion/sesion-ordinaria-y-sesion-especial-9/
END:VEVENT
END:VCALENDAR